BEGIN:VCALENDAR
VERSION:2.0
PRODID:-//City of Geneva, Minnesota - ECPv6.15.20//NONSGML v1.0//EN
CALSCALE:GREGORIAN
METHOD:PUBLISH
X-WR-CALNAME:City of Geneva, Minnesota
X-ORIGINAL-URL:https://cityofgenevamn.com
X-WR-CALDESC:Events for City of Geneva, Minnesota
REFRESH-INTERVAL;VALUE=DURATION:PT1H
X-Robots-Tag:noindex
X-PUBLISHED-TTL:PT1H
BEGIN:VTIMEZONE
TZID:America/Chicago
BEGIN:DAYLIGHT
TZOFFSETFROM:-0600
TZOFFSETTO:-0500
TZNAME:CDT
DTSTART:20210314T080000
END:DAYLIGHT
BEGIN:STANDARD
TZOFFSETFROM:-0500
TZOFFSETTO:-0600
TZNAME:CST
DTSTART:20211107T070000
END:STANDARD
BEGIN:DAYLIGHT
TZOFFSETFROM:-0600
TZOFFSETTO:-0500
TZNAME:CDT
DTSTART:20220313T080000
END:DAYLIGHT
BEGIN:STANDARD
TZOFFSETFROM:-0500
TZOFFSETTO:-0600
TZNAME:CST
DTSTART:20221106T070000
END:STANDARD
BEGIN:DAYLIGHT
TZOFFSETFROM:-0600
TZOFFSETTO:-0500
TZNAME:CDT
DTSTART:20230312T080000
END:DAYLIGHT
BEGIN:STANDARD
TZOFFSETFROM:-0500
TZOFFSETTO:-0600
TZNAME:CST
DTSTART:20231105T070000
END:STANDARD
END:VTIMEZONE
BEGIN:VEVENT
DTSTART;TZID=America/Chicago:20220503T190000
DTEND;TZID=America/Chicago:20220503T200000
DTSTAMP:20260420T041244
CREATED:20220222T023325Z
LAST-MODIFIED:20220222T213613Z
UID:1833-1651604400-1651608000@cityofgenevamn.com
SUMMARY:Team Geneva Meeting
DESCRIPTION:Team Geneva will meet at the Geneva Community Center for their regular monthly meeting
URL:https://cityofgenevamn.com/event/team-geneva-3/
LOCATION:Geneva Community Center
END:VEVENT
BEGIN:VEVENT
DTSTART;TZID=America/Chicago:20220412T190000
DTEND;TZID=America/Chicago:20220412T200000
DTSTAMP:20260420T041244
CREATED:20220222T020906Z
LAST-MODIFIED:20220222T213711Z
UID:1806-1649790000-1649793600@cityofgenevamn.com
SUMMARY:Geneva City Council Meeting
DESCRIPTION:The Geneva City Council meeting will be held at the Geneva Community Center
URL:https://cityofgenevamn.com/event/council-meeting/
END:VEVENT
BEGIN:VEVENT
DTSTART;TZID=America/Chicago:20220409T163000
DTEND;TZID=America/Chicago:20220409T210000
DTSTAMP:20260420T041244
CREATED:20220222T024849Z
LAST-MODIFIED:20220325T171035Z
UID:1850-1649521800-1649538000@cityofgenevamn.com
SUMMARY:Ham Bingo
DESCRIPTION:Hold the date for the Geneva Fire Department “Ham Bingo” event which will be held at the Geneva Community Center.  Details will be announced soon!
URL:https://cityofgenevamn.com/event/ham-bingo/
LOCATION:Geneva Community Center
END:VEVENT
BEGIN:VEVENT
DTSTART;TZID=America/Chicago:20220405T190000
DTEND;TZID=America/Chicago:20220405T200000
DTSTAMP:20260420T041244
CREATED:20220222T023145Z
LAST-MODIFIED:20220222T213813Z
UID:1831-1649185200-1649188800@cityofgenevamn.com
SUMMARY:Team Geneva Meeting
DESCRIPTION:Team Geneva will meet for their regular monthly meeting at the Geneva Community Center
URL:https://cityofgenevamn.com/event/team-geneva-2/
LOCATION:Geneva Community Center
END:VEVENT
BEGIN:VEVENT
DTSTART;TZID=America/Chicago:20220308T190000
DTEND;TZID=America/Chicago:20220308T200000
DTSTAMP:20260420T041244
CREATED:20220221T164426Z
LAST-MODIFIED:20220222T213902Z
UID:1717-1646766000-1646769600@cityofgenevamn.com
SUMMARY:Geneva City Council Meeting
DESCRIPTION:This is the regular monthly meeting of the Geneva City Council.  The meeting is held at the Geneva Community Center
URL:https://cityofgenevamn.com/event/march-city-council-meeting/
LOCATION:Geneva Community Center
END:VEVENT
BEGIN:VEVENT
DTSTART;TZID=America/Chicago:20220301T190000
DTEND;TZID=America/Chicago:20220301T200000
DTSTAMP:20260420T041244
CREATED:20220222T022949Z
LAST-MODIFIED:20220222T213947Z
UID:1828-1646161200-1646164800@cityofgenevamn.com
SUMMARY:Team Geneva Meeting
DESCRIPTION:Team Geneva will meet at the Geneva Community Center for their regular monthly meeting
URL:https://cityofgenevamn.com/event/team-geneva/
LOCATION:Geneva Community Center
END:VEVENT
END:VCALENDAR